BEGIN:VCALENDAR
PRODID:-//zoom.us//iCalendar Event//EN
VERSION:2.0
CALSCALE:GREGORIAN
METHOD:PUBLISH
CLASS:PUBLIC
BEGIN:VTIMEZONE
TZID:America/Los_Angeles
LAST-MODIFIED:20230104T023643Z
TZURL:https://www.tzurl.org/zoneinfo-outlook/America/Los_Angeles
X-LIC-LOCATION:America/Los_Angeles
BEGIN:DAYLIGHT
TZNAME:PDT
TZOFFSETFROM:-0800
TZOFFSETTO:-0700
DTSTART:19700308T020000
RRULE:FREQ=YEARLY;BYMONTH=3;BYDAY=2SU
END:DAYLIGHT
BEGIN:STANDARD
TZNAME:PST
TZOFFSETFROM:-0700
TZOFFSETTO:-0800
DTSTART:19701101T020000
RRULE:FREQ=YEARLY;BYMONTH=11;BYDAY=1SU
END:STANDARD
END:VTIMEZONE
BEGIN:VEVENT
DTSTAMP:20230130T184105Z
DTSTART;TZID=America/Los_Angeles:20230411T121000
DTEND;TZID=America/Los_Angeles:20230411T131000
SUMMARY:All College Meeting
UID:20230130T184105Z-93032939296@fe80:0:0:0:c9f:aeff:feea:8e09ens5
TZID:America/Los_Angeles
DESCRIPTION:Join from a PC\, Mac\, iPad\, iPhone or Android device:\n    
 Please click this URL to join. https://wsu.zoom.us/s/93032939296\n	Descr
 iption: Join the presentation on April 11 held by Interim Dean James Rec
 ord to review results and accomplishments over the past quarter\, curren
 t efforts\, and what’s coming in the months ahead.\n\nOr One tap mobile:
 \n    +12532158782\,\,93032939296# US (Tacoma)\n    +16699009128\,\,9303
 2939296# US (San Jose)\n\nOr join by phone:\n    Dial(for higher quality
 \, dial a number based on your current location):\n        US: +1 253 21
 5 8782  or +1 669 900 9128  or +1 646 558 8656 \n    Webinar ID: 930 329
 3 9296\n    International numbers available: https://wsu.zoom.us/u/ac7CQ
 wkZNv\n\n\nOr an H.323/SIP room system:\n    H.323: \n        162.255.37
 .11 (US West)\n        162.255.36.11 (US East)\n        115.114.131.7 (I
 ndia Mumbai)\n        115.114.115.7 (India Hyderabad)\n        213.19.14
 4.110 (Amsterdam Netherlands)\n        213.244.140.110 (Germany)\n      
   103.122.166.55 (Australia Sydney)\n        103.122.167.55 (Australia M
 elbourne)\n        149.137.40.110 (Singapore)\n        64.211.144.160 (B
 razil)\n        149.137.68.253 (Mexico)\n        69.174.57.160 (Canada T
 oronto)\n        65.39.152.160 (Canada Vancouver)\n        207.226.132.1
 10 (Japan Tokyo)\n        149.137.24.110 (Japan Osaka)\n    Webinar ID: 
 930 3293 9296\n\n    SIP: 93032939296@zoomcrc.com\n
LOCATION:https://wsu.zoom.us/s/93032939296
BEGIN:VALARM
TRIGGER:-PT10M
ACTION:DISPLAY
DESCRIPTION:Reminder
END:VALARM
END:VEVENT
END:VCALENDAR
