{"text_format":"1","workbook":"xlsx","n_sheets":4,"sheets":["Read Me","Input Sheet","Catch Can Results","DU Calculations"],"not_rendered":{"charts":0,"images":4,"macros":1,"external_links":0,"defined_names":2,"comments":1,"pivot_tables":0},"unopened":[],"bounds":{"document_bytes":16777216,"sheet_cells":100000,"rows_first":2000,"rows_last":500,"rows_between":2000,"halvings":0,"cell_chars":16384,"cell_head_chars":4096},"cells_cut":0,"cells_raw":0,"read":"whole","date_system":"1900"}

{"sheet":"Read Me","index":0,"n_rows":26,"n_cols":2,"rows_kept":26,"cut":false,"hidden":false,"merged":[]}
[]
[null,"Solid Set Catch Can"]
[]
[null,"This catch can spreadsheet is set up to evaluate a grouping of catch cans.  This"]
[null,"spreadhseet is not configured to evaluate a single sprayhead.  The number of catch "]
[null,"cans can vary when conducting a distribution uniformity assessment.  However,"]
[null,"the greater number of catch cans used in an irrigation system assessment"]
[null,"will increase the accuracy of the information.  "]
[]
[null,"To enter your data, move the sprinkler icons around the input sheet to diagram the"]
[null,"layout of sprinklers and catch cans.  When the run time is complete, enter the catch"]
[null,"can data into the input sheet in milliliters (ml). "]
[]
[null,"Rember to enter the correction value to convert your input data from milliliters into inches."]
[]
[null,"The \"Calculate\" (F9) button will sort, and determine the low quarter and uniformity valve."]
[null,"This is only necessary if the automatic calculation option has been turned off."]
[]
[null,"Use the \"Erase\" button or the \"Clear\" and then the \"Clear Contents\" option to clean"]
[null,"and restore the spreadsheet to sort and to calcuate your next catch can assessment."]
[]
[null,"Data entered in the \"Input Sheet\" will populate the corresponding cell in the"]
[null,"\"Catch Can Results\" and \"DU Calculations\" worksheets."]
[]
[null,"If you incur a problem in using this spreadsheet, please contact Leigh Nelson, "]
[null,"USDA-NRCS, at (509) 754-3023 Ext. 1121."]

{"sheet":"Input Sheet","index":1,"n_rows":16,"n_cols":19,"rows_kept":16,"cut":false,"hidden":false,"merged":[[0,0,0,15]]}
["Catch Can Data - Input in ml"]
["Column/Row","a","b","c","d","e","f","g","h","i","j","k","l","m","n","o","Catch Can Correction",null,"ml/inch"]
[1,null,null,null,null,null,null,null,null,null,null,null,null,null,null,null,"Sprinkler Spacing =",null,"ft"]
[{"$f":"A3+1","v":2},null,null,null,null,null,null,null,null,null,null,null,null,null,null,null,"Lateral Spacing =",null,"ft"]
[{"$f":"A4+1","v":3},null,null,null,null,null,null,null,null,null,null,null,null,null,null,null,"Can Spacing",null,"ft"]
[4,null,null,null,null,null,null,null,null,null,null,null,null,null,null,null,"Can Spacing",null,"ft"]
[5,null,null,null,null,null,null,null,null,null,null,null,null,null,null,null,"DU =",{"$f":"IF('DU Calculations'!C7=0,\"\",'DU Calculations'!G4)","v":""},"%"]
[6,null,null,null,null,null,null,null,null,null,null,null,null,null,null,null,"Average Application",{"$f":"IF('DU Calculations'!C7=0,\"\",'DU Calculations'!G2/'Input Sheet'!R2)","v":""},"inches"]
[7,null,null,null,null,null,null,null,null,null,null,null,null,null,null,null,"Calculate"]
[8,null,null,null,null,null,null,null,null,null,null,null,null,null,null,null,"Erase All Cells"]
[9,null,null,null,null,null,null,null,null,null,null,null,null,null,null,null,"Print Results"]
[10]
[11]
[12]
[13]
[14]

{"sheet":"Catch Can Results","index":2,"n_rows":16,"n_cols":18,"rows_kept":16,"cut":false,"hidden":false,"merged":[[0,0,0,15]]}
["Catch Can Data - Combined"]
["Column/Row","a","b","c","d","e","f","g","h","i","j","k","l","m","n","o"]
[1,{"$f":"'Input Sheet'!B3","v":0},{"$f":"'Input Sheet'!C3","v":0},{"$f":"'Input Sheet'!D3","v":0},{"$f":"'Input Sheet'!E3","v":0},{"$f":"'Input Sheet'!F3","v":0},{"$f":"'Input Sheet'!G3","v":0},{"$f":"'Input Sheet'!H3","v":0},{"$f":"'Input Sheet'!I3","v":0},{"$f":"'Input Sheet'!J3","v":0},{"$f":"'Input Sheet'!K3","v":0},{"$f":"'Input Sheet'!L3","v":0},{"$f":"'Input Sheet'!M3","v":0},{"$f":"'Input Sheet'!N3","v":0},{"$f":"'Input Sheet'!O3","v":0},{"$f":"'Input Sheet'!P3","v":0}]
[{"$f":"A3+1","v":2},{"$f":"'Input Sheet'!B4","v":0},{"$f":"'Input Sheet'!C4","v":0},{"$f":"'Input Sheet'!D4","v":0},{"$f":"'Input Sheet'!E4","v":0},{"$f":"'Input Sheet'!F4","v":0},{"$f":"'Input Sheet'!G4","v":0},{"$f":"'Input Sheet'!H4","v":0},{"$f":"'Input Sheet'!I4","v":0},{"$f":"'Input Sheet'!J4","v":0},{"$f":"'Input Sheet'!K4","v":0},{"$f":"'Input Sheet'!L4","v":0},{"$f":"'Input Sheet'!M4","v":0},{"$f":"'Input Sheet'!N4","v":0},{"$f":"'Input Sheet'!O4","v":0},{"$f":"'Input Sheet'!P4","v":0}]
[{"$f":"A4+1","v":3},{"$f":"'Input Sheet'!B5","v":0},{"$f":"'Input Sheet'!C5","v":0},{"$f":"'Input Sheet'!D5","v":0},{"$f":"'Input Sheet'!E5","v":0},{"$f":"'Input Sheet'!F5","v":0},{"$f":"'Input Sheet'!G5","v":0},{"$f":"'Input Sheet'!H5","v":0},{"$f":"'Input Sheet'!I5","v":0},{"$f":"'Input Sheet'!J5","v":0},{"$f":"'Input Sheet'!K5","v":0},{"$f":"'Input Sheet'!L5","v":0},{"$f":"'Input Sheet'!M5","v":0},{"$f":"'Input Sheet'!N5","v":0},{"$f":"'Input Sheet'!O5","v":0},{"$f":"'Input Sheet'!P5","v":0}]
[4,{"$f":"'Input Sheet'!B6","v":0},{"$f":"'Input Sheet'!C6","v":0},{"$f":"'Input Sheet'!D6","v":0},{"$f":"'Input Sheet'!E6","v":0},{"$f":"'Input Sheet'!F6","v":0},{"$f":"'Input Sheet'!G6","v":0},{"$f":"'Input Sheet'!H6","v":0},{"$f":"'Input Sheet'!I6","v":0},{"$f":"'Input Sheet'!J6","v":0},{"$f":"'Input Sheet'!K6","v":0},{"$f":"'Input Sheet'!L6","v":0},{"$f":"'Input Sheet'!M6","v":0},{"$f":"'Input Sheet'!N6","v":0},{"$f":"'Input Sheet'!O6","v":0},{"$f":"'Input Sheet'!P6","v":0}]
[5,{"$f":"'Input Sheet'!B7","v":0},{"$f":"'Input Sheet'!C7","v":0},{"$f":"'Input Sheet'!D7","v":0},{"$f":"'Input Sheet'!E7","v":0},{"$f":"'Input Sheet'!F7","v":0},{"$f":"'Input Sheet'!G7","v":0},{"$f":"'Input Sheet'!H7","v":0},{"$f":"'Input Sheet'!I7","v":0},{"$f":"'Input Sheet'!J7","v":0},{"$f":"'Input Sheet'!K7","v":0},{"$f":"'Input Sheet'!L7","v":0},{"$f":"'Input Sheet'!M7","v":0},{"$f":"'Input Sheet'!N7","v":0},{"$f":"'Input Sheet'!O7","v":0},{"$f":"'Input Sheet'!P7","v":0}]
[6,{"$f":"'Input Sheet'!B8","v":0},{"$f":"'Input Sheet'!C8","v":0},{"$f":"'Input Sheet'!D8","v":0},{"$f":"'Input Sheet'!E8","v":0},{"$f":"'Input Sheet'!F8","v":0},{"$f":"'Input Sheet'!G8","v":0},{"$f":"'Input Sheet'!H8","v":0},{"$f":"'Input Sheet'!I8","v":0},{"$f":"'Input Sheet'!J8","v":0},{"$f":"'Input Sheet'!K8","v":0},{"$f":"'Input Sheet'!L8","v":0},{"$f":"'Input Sheet'!M8","v":0},{"$f":"'Input Sheet'!N8","v":0},{"$f":"'Input Sheet'!O8","v":0},{"$f":"'Input Sheet'!P8","v":0}]
[7,{"$f":"'Input Sheet'!B9","v":0},{"$f":"'Input Sheet'!C9","v":0},{"$f":"'Input Sheet'!D9","v":0},{"$f":"'Input Sheet'!E9","v":0},{"$f":"'Input Sheet'!F9","v":0},{"$f":"'Input Sheet'!G9","v":0},{"$f":"'Input Sheet'!H9","v":0},{"$f":"'Input Sheet'!I9","v":0},{"$f":"'Input Sheet'!J9","v":0},{"$f":"'Input Sheet'!K9","v":0},{"$f":"'Input Sheet'!L9","v":0},{"$f":"'Input Sheet'!M9","v":0},{"$f":"'Input Sheet'!N9","v":0},{"$f":"'Input Sheet'!O9","v":0},{"$f":"'Input Sheet'!P9","v":0}]
[8,{"$f":"'Input Sheet'!B10","v":0},{"$f":"'Input Sheet'!C10","v":0},{"$f":"'Input Sheet'!D10","v":0},{"$f":"'Input Sheet'!E10","v":0},{"$f":"'Input Sheet'!F10","v":0},{"$f":"'Input Sheet'!G10","v":0},{"$f":"'Input Sheet'!H10","v":0},{"$f":"'Input Sheet'!I10","v":0},{"$f":"'Input Sheet'!J10","v":0},{"$f":"'Input Sheet'!K10","v":0},{"$f":"'Input Sheet'!L10","v":0},{"$f":"'Input Sheet'!M10","v":0},{"$f":"'Input Sheet'!N10","v":0},{"$f":"'Input Sheet'!O10","v":0},{"$f":"'Input Sheet'!P10","v":0}]
[9,{"$f":"'Input Sheet'!B11","v":0},{"$f":"'Input Sheet'!C11","v":0},{"$f":"'Input Sheet'!D11","v":0},{"$f":"'Input Sheet'!E11","v":0},{"$f":"'Input Sheet'!F11","v":0},{"$f":"'Input Sheet'!G11","v":0},{"$f":"'Input Sheet'!H11","v":0},{"$f":"'Input Sheet'!I11","v":0},{"$f":"'Input Sheet'!J11","v":0},{"$f":"'Input Sheet'!K11","v":0},{"$f":"'Input Sheet'!L11","v":0},{"$f":"'Input Sheet'!M11","v":0},{"$f":"'Input Sheet'!N11","v":0},{"$f":"'Input Sheet'!O11","v":0},{"$f":"'Input Sheet'!P11","v":0},null,{"$f":"SUM(B3:P16)","v":0}]
[10,{"$f":"'Input Sheet'!B12","v":0},{"$f":"'Input Sheet'!C12","v":0},{"$f":"'Input Sheet'!D12","v":0},{"$f":"'Input Sheet'!E12","v":0},{"$f":"'Input Sheet'!F12","v":0},{"$f":"'Input Sheet'!G12","v":0},{"$f":"'Input Sheet'!H12","v":0},{"$f":"'Input Sheet'!I12","v":0},{"$f":"'Input Sheet'!J12","v":0},{"$f":"'Input Sheet'!K12","v":0},{"$f":"'Input Sheet'!L12","v":0},{"$f":"'Input Sheet'!M12","v":0},{"$f":"'Input Sheet'!N12","v":0},{"$f":"'Input Sheet'!O12","v":0},{"$f":"'Input Sheet'!P12","v":0},null,{"$f":"R11*0.25","v":0}]
[11,{"$f":"'Input Sheet'!B13","v":0},{"$f":"'Input Sheet'!C13","v":0},{"$f":"'Input Sheet'!D13","v":0},{"$f":"'Input Sheet'!E13","v":0},{"$f":"'Input Sheet'!F13","v":0},{"$f":"'Input Sheet'!G13","v":0},{"$f":"'Input Sheet'!H13","v":0},{"$f":"'Input Sheet'!I13","v":0},{"$f":"'Input Sheet'!J13","v":0},{"$f":"'Input Sheet'!K13","v":0},{"$f":"'Input Sheet'!L13","v":0},{"$f":"'Input Sheet'!M13","v":0},{"$f":"'Input Sheet'!N13","v":0},{"$f":"'Input Sheet'!O13","v":0},{"$f":"'Input Sheet'!P13","v":0},null,{"$f":"1-R12/R11","v":{"$error":"#DIV/0!"}}]
[12,{"$f":"'Input Sheet'!B14","v":0},{"$f":"'Input Sheet'!C14","v":0},{"$f":"'Input Sheet'!D14","v":0},{"$f":"'Input Sheet'!E14","v":0},{"$f":"'Input Sheet'!F14","v":0},{"$f":"'Input Sheet'!G14","v":0},{"$f":"'Input Sheet'!H14","v":0},{"$f":"'Input Sheet'!I14","v":0},{"$f":"'Input Sheet'!J14","v":0},{"$f":"'Input Sheet'!K14","v":0},{"$f":"'Input Sheet'!L14","v":0},{"$f":"'Input Sheet'!M14","v":0},{"$f":"'Input Sheet'!N14","v":0},{"$f":"'Input Sheet'!O14","v":0},{"$f":"'Input Sheet'!P14","v":0}]
[13,{"$f":"'Input Sheet'!B15","v":0},{"$f":"'Input Sheet'!C15","v":0},{"$f":"'Input Sheet'!D15","v":0},{"$f":"'Input Sheet'!E15","v":0},{"$f":"'Input Sheet'!F15","v":0},{"$f":"'Input Sheet'!G15","v":0},{"$f":"'Input Sheet'!H15","v":0},{"$f":"'Input Sheet'!I15","v":0},{"$f":"'Input Sheet'!J15","v":0},{"$f":"'Input Sheet'!K15","v":0},{"$f":"'Input Sheet'!L15","v":0},{"$f":"'Input Sheet'!M15","v":0},{"$f":"'Input Sheet'!N15","v":0},{"$f":"'Input Sheet'!O15","v":0},{"$f":"'Input Sheet'!P15","v":0}]
[14,{"$f":"'Input Sheet'!B16","v":0},{"$f":"'Input Sheet'!C16","v":0},{"$f":"'Input Sheet'!D16","v":0},{"$f":"'Input Sheet'!E16","v":0},{"$f":"'Input Sheet'!F16","v":0},{"$f":"'Input Sheet'!G16","v":0},{"$f":"'Input Sheet'!H16","v":0},{"$f":"'Input Sheet'!I16","v":0},{"$f":"'Input Sheet'!J16","v":0},{"$f":"'Input Sheet'!K16","v":0},{"$f":"'Input Sheet'!L16","v":0},{"$f":"'Input Sheet'!M16","v":0},{"$f":"'Input Sheet'!N16","v":0},{"$f":"'Input Sheet'!O16","v":0},{"$f":"'Input Sheet'!P16","v":0}]

{"sheet":"DU Calculations","index":3,"n_rows":216,"n_cols":7,"rows_kept":216,"cut":false,"hidden":false,"merged":[]}
[]
[null,"Number of Cans",{"$f":"COUNT(D7:D90)","v":0},null,null,"Average of All Catches",{"$f":"AVERAGE(D7:D216)","v":{"$error":"#DIV/0!"}}]
[null,"Low Quarter No. of Cans",{"$f":"INT(C2/4)","v":0},null,null,"Low Quarter",{"$f":"SUM(F7:F216)/C3","v":{"$error":"#DIV/0!"}}]
[null,null,null,null,null,"DU",{"$f":"G3/G2","v":{"$error":"#DIV/0!"}}]
[]
["Sort No.","Catch Can","Amount","Combined Total","Number of Cans","Low Quarter Numbers"]
[1,"a1",{"$f":"'Catch Can Results'!B3","v":0},{"$f":"IF(C7=0,\"\",C7)","v":""},{"$f":"IF(D7=\"\",0,E8+1)","v":0},{"$f":"IF(E7<=$C$3,C7,0)","v":0}]
[2,"a2",{"$f":"'Catch Can Results'!B4","v":0},"",0,0]
[3,"a3",{"$f":"'Catch Can Results'!B5","v":0},"",0,0]
[4,"a4",{"$f":"'Catch Can Results'!B6","v":0},"",0,0]
[5,"a5",{"$f":"'Catch Can Results'!B7","v":0},"",0,0]
[6,"a6",{"$f":"'Catch Can Results'!B8","v":0},"",0,0]
[7,"a7",{"$f":"'Catch Can Results'!B9","v":0},"",0,0]
[8,"a8",{"$f":"'Catch Can Results'!B10","v":0},"",0,0]
[9,"a9",{"$f":"'Catch Can Results'!B11","v":0},"",0,0]
[10,"a10",{"$f":"'Catch Can Results'!B12","v":0},"",0,0]
[11,"a11",{"$f":"'Catch Can Results'!B13","v":0},"",0,0]
[12,"a12",{"$f":"'Catch Can Results'!B14","v":0},"",0,0]
[13,"a13",{"$f":"'Catch Can Results'!B15","v":0},"",0,0]
[14,"a14",{"$f":"'Catch Can Results'!B16","v":0},"",0,0]
[15,"b1",{"$f":"'Catch Can Results'!C3","v":0},"",0,0]
[16,"b2",{"$f":"'Catch Can Results'!C4","v":0},"",0,0]
[17,"b3",{"$f":"'Catch Can Results'!C5","v":0},"",0,0]
[18,"b4",{"$f":"'Catch Can Results'!C6","v":0},"",0,0]
[19,"b5",{"$f":"'Catch Can Results'!C7","v":0},"",0,0]
[20,"b6",{"$f":"'Catch Can Results'!C8","v":0},"",0,0]
[21,"b7",{"$f":"'Catch Can Results'!C9","v":0},"",0,0]
[22,"b8",{"$f":"'Catch Can Results'!C10","v":0},"",0,0]
[23,"b9",{"$f":"'Catch Can Results'!C11","v":0},"",0,0]
[24,"b10",{"$f":"'Catch Can Results'!C12","v":0},"",0,0]
[25,"b11",{"$f":"'Catch Can Results'!C13","v":0},"",0,0]
[26,"b12",{"$f":"'Catch Can Results'!C14","v":0},"",0,0]
[27,"b13",{"$f":"'Catch Can Results'!C15","v":0},"",0,0]
[28,"b14",{"$f":"'Catch Can Results'!C16","v":0},"",0,0]
[29,"c1",{"$f":"'Catch Can Results'!D3","v":0},"",0,0]
[30,"c2",{"$f":"'Catch Can Results'!D4","v":0},"",0,0]
[31,"c3",{"$f":"'Catch Can Results'!D5","v":0},"",0,0]
[32,"c4",{"$f":"'Catch Can Results'!D6","v":0},"",0,0]
[33,"c5",{"$f":"'Catch Can Results'!D7","v":0},"",0,0]
[34,"c6",{"$f":"'Catch Can Results'!D8","v":0},"",0,0]
[35,"c7",{"$f":"'Catch Can Results'!D9","v":0},"",0,0]
[36,"c8",{"$f":"'Catch Can Results'!D10","v":0},"",0,0]
[37,"c9",{"$f":"'Catch Can Results'!D11","v":0},"",0,0]
[38,"c10",{"$f":"'Catch Can Results'!D12","v":0},"",0,0]
[39,"c11",{"$f":"'Catch Can Results'!D13","v":0},"",0,0]
[40,"c12",{"$f":"'Catch Can Results'!D14","v":0},"",0,0]
[41,"c13",{"$f":"'Catch Can Results'!D15","v":0},"",0,0]
[42,"c14",{"$f":"'Catch Can Results'!D16","v":0},"",0,0]
[43,"d1",{"$f":"'Catch Can Results'!E3","v":0},"",0,0]
[44,"d2",{"$f":"'Catch Can Results'!E4","v":0},"",0,0]
[45,"d3",{"$f":"'Catch Can Results'!E5","v":0},"",0,0]
[46,"d4",{"$f":"'Catch Can Results'!E6","v":0},"",0,0]
[47,"d5",{"$f":"'Catch Can Results'!E7","v":0},"",0,0]
[48,"d6",{"$f":"'Catch Can Results'!E8","v":0},"",0,0]
[49,"d7",{"$f":"'Catch Can Results'!E9","v":0},"",0,0]
[50,"d8",{"$f":"'Catch Can Results'!E10","v":0},"",0,0]
[51,"d9",{"$f":"'Catch Can Results'!E11","v":0},"",0,0]
[52,"d10",{"$f":"'Catch Can Results'!E12","v":0},"",0,0]
[53,"d11",{"$f":"'Catch Can Results'!E13","v":0},"",0,0]
[54,"d12",{"$f":"'Catch Can Results'!E14","v":0},"",0,0]
[55,"d13",{"$f":"'Catch Can Results'!E15","v":0},"",0,0]
[56,"d14",{"$f":"'Catch Can Results'!E16","v":0},"",0,0]
[57,"e1",{"$f":"'Catch Can Results'!F3","v":0},"",0,0]
[58,"e2",{"$f":"'Catch Can Results'!F4","v":0},"",0,0]
[59,"e3",{"$f":"'Catch Can Results'!F5","v":0},"",0,0]
[60,"e4",{"$f":"'Catch Can Results'!F6","v":0},"",0,0]
[61,"e5",{"$f":"'Catch Can Results'!F7","v":0},"",0,0]
[62,"e6",{"$f":"'Catch Can Results'!F8","v":0},"",0,0]
[63,"e7",{"$f":"'Catch Can Results'!F9","v":0},"",0,0]
[64,"e8",{"$f":"'Catch Can Results'!F10","v":0},"",0,0]
[65,"e9",{"$f":"'Catch Can Results'!F11","v":0},{"$f":"IF(C71=0,\"\",C71)","v":""},{"$f":"IF(D71=\"\",0,E72+1)","v":0},{"$f":"IF(E71<=$C$3,C71,0)","v":0}]
[66,"e10",{"$f":"'Catch Can Results'!F12","v":0},"",0,0]
[67,"e11",{"$f":"'Catch Can Results'!F13","v":0},"",0,0]
[68,"e12",{"$f":"'Catch Can Results'!F14","v":0},"",0,0]
[69,"e13",{"$f":"'Catch Can Results'!F15","v":0},"",0,0]
[70,"e14",{"$f":"'Catch Can Results'!F16","v":0},"",0,0]
[71,"f1",{"$f":"'Catch Can Results'!G3","v":0},"",0,0]
[72,"f2",{"$f":"'Catch Can Results'!G4","v":0},"",0,0]
[73,"f3",{"$f":"'Catch Can Results'!G5","v":0},"",0,0]
[74,"f4",{"$f":"'Catch Can Results'!G6","v":0},"",0,0]
[75,"f5",{"$f":"'Catch Can Results'!G7","v":0},"",0,0]
[76,"f6",{"$f":"'Catch Can Results'!G8","v":0},"",0,0]
[77,"f7",{"$f":"'Catch Can Results'!G9","v":0},"",0,0]
[78,"f8",{"$f":"'Catch Can Results'!G10","v":0},"",0,0]
[79,"f9",{"$f":"'Catch Can Results'!G11","v":0},"",0,0]
[80,"f10",{"$f":"'Catch Can Results'!G12","v":0},"",0,0]
[81,"f11",{"$f":"'Catch Can Results'!G13","v":0},"",0,0]
[82,"f12",{"$f":"'Catch Can Results'!G14","v":0},"",0,0]
[83,"f13",{"$f":"'Catch Can Results'!G15","v":0},"",0,0]
[84,"f14",{"$f":"'Catch Can Results'!G16","v":0},"",0,0]
[85,"g1",{"$f":"'Catch Can Results'!H3","v":0},"",0,0]
[86,"g2",{"$f":"'Catch Can Results'!H4","v":0},"",0,0]
[87,"g3",{"$f":"'Catch Can Results'!H5","v":0},"",0,0]
[88,"g4",{"$f":"'Catch Can Results'!H6","v":0},"",0,0]
[89,"g5",{"$f":"'Catch Can Results'!H7","v":0},"",0,0]
[90,"g6",{"$f":"'Catch Can Results'!H8","v":0},"",0,0]
[91,"g7",{"$f":"'Catch Can Results'!H9","v":0},"",0,0]
[92,"g8",{"$f":"'Catch Can Results'!H10","v":0},"",0,0]
[93,"g9",{"$f":"'Catch Can Results'!H11","v":0},"",0,0]
[94,"g10",{"$f":"'Catch Can Results'!H12","v":0},"",0,0]
[95,"g11",{"$f":"'Catch Can Results'!H13","v":0},"",0,0]
[96,"g12",{"$f":"'Catch Can Results'!H14","v":0},"",0,0]
[97,"g13",{"$f":"'Catch Can Results'!H15","v":0},"",0,0]
[98,"g14",{"$f":"'Catch Can Results'!H16","v":0},"",0,0]
[99,"h1",{"$f":"'Catch Can Results'!I3","v":0},"",0,0]
[100,"h2",{"$f":"'Catch Can Results'!I4","v":0},"",0,0]
[101,"h3",{"$f":"'Catch Can Results'!I5","v":0},"",0,0]
[102,"h4",{"$f":"'Catch Can Results'!I6","v":0},"",0,0]
[103,"h5",{"$f":"'Catch Can Results'!I7","v":0},"",0,0]
[104,"h6",{"$f":"'Catch Can Results'!I8","v":0},"",0,0]
[105,"h7",{"$f":"'Catch Can Results'!I9","v":0},"",0,0]
[106,"h8",{"$f":"'Catch Can Results'!I10","v":0},"",0,0]
[107,"h9",{"$f":"'Catch Can Results'!I11","v":0},"",0,0]
[108,"h10",{"$f":"'Catch Can Results'!I12","v":0},"",0,0]
[109,"h11",{"$f":"'Catch Can Results'!I13","v":0},"",0,0]
[110,"h12",{"$f":"'Catch Can Results'!I14","v":0},"",0,0]
[111,"h13",{"$f":"'Catch Can Results'!I15","v":0},"",0,0]
[112,"h14",{"$f":"'Catch Can Results'!I16","v":0},"",0,0]
[113,"i1",{"$f":"'Catch Can Results'!J3","v":0},"",0,0]
[114,"i2",{"$f":"'Catch Can Results'!J4","v":0},"",0,0]
[115,"i3",{"$f":"'Catch Can Results'!J5","v":0},"",0,0]
[116,"i4",{"$f":"'Catch Can Results'!J6","v":0},"",0,0]
[117,"i5",{"$f":"'Catch Can Results'!J7","v":0},"",0,0]
[118,"i6",{"$f":"'Catch Can Results'!J8","v":0},"",0,0]
[119,"i7",{"$f":"'Catch Can Results'!J9","v":0},"",0,0]
[120,"i8",{"$f":"'Catch Can Results'!J10","v":0},"",0,0]
[121,"i9",{"$f":"'Catch Can Results'!J11","v":0},"",0,0]
[122,"i10",{"$f":"'Catch Can Results'!J12","v":0},"",0,0]
[123,"i11",{"$f":"'Catch Can Results'!J13","v":0},"",0,0]
[124,"i12",{"$f":"'Catch Can Results'!J14","v":0},"",0,0]
[125,"i13",{"$f":"'Catch Can Results'!J15","v":0},"",0,0]
[126,"i14",{"$f":"'Catch Can Results'!J16","v":0},"",0,0]
[127,"j1",{"$f":"'Catch Can Results'!K3","v":0},"",0,0]
[128,"j2",{"$f":"'Catch Can Results'!K4","v":0},"",0,0]
[129,"j3",{"$f":"'Catch Can Results'!K5","v":0},{"$f":"IF(C135=0,\"\",C135)","v":""},{"$f":"IF(D135=\"\",0,E136+1)","v":0},{"$f":"IF(E135<=$C$3,C135,0)","v":0}]
[130,"j4",{"$f":"'Catch Can Results'!K6","v":0},"",0,0]
[131,"j5",{"$f":"'Catch Can Results'!K7","v":0},"",0,0]
[132,"j6",{"$f":"'Catch Can Results'!K8","v":0},"",0,0]
[133,"j7",{"$f":"'Catch Can Results'!K9","v":0},"",0,0]
[134,"j8",{"$f":"'Catch Can Results'!K10","v":0},"",0,0]
[135,"j9",{"$f":"'Catch Can Results'!K11","v":0},"",0,0]
[136,"j10",{"$f":"'Catch Can Results'!K12","v":0},"",0,0]
[137,"j11",{"$f":"'Catch Can Results'!K13","v":0},"",0,0]
[138,"j12",{"$f":"'Catch Can Results'!K14","v":0},"",0,0]
[139,"j13",{"$f":"'Catch Can Results'!K15","v":0},"",0,0]
[140,"j14",{"$f":"'Catch Can Results'!K16","v":0},"",0,0]
[141,"k1",{"$f":"'Catch Can Results'!L3","v":0},"",0,0]
[142,"k2",{"$f":"'Catch Can Results'!L4","v":0},"",0,0]
[143,"k3",{"$f":"'Catch Can Results'!L5","v":0},"",0,0]
[144,"k4",{"$f":"'Catch Can Results'!L6","v":0},"",0,0]
[145,"k5",{"$f":"'Catch Can Results'!L7","v":0},"",0,0]
[146,"k6",{"$f":"'Catch Can Results'!L8","v":0},"",0,0]
[147,"k7",{"$f":"'Catch Can Results'!L9","v":0},"",0,0]
[148,"k8",{"$f":"'Catch Can Results'!L10","v":0},"",0,0]
[149,"k9",{"$f":"'Catch Can Results'!L11","v":0},"",0,0]
[150,"k10",{"$f":"'Catch Can Results'!L12","v":0},"",0,0]
[151,"k11",{"$f":"'Catch Can Results'!L13","v":0},"",0,0]
[152,"k12",{"$f":"'Catch Can Results'!L14","v":0},"",0,0]
[153,"k13",{"$f":"'Catch Can Results'!L15","v":0},"",0,0]
[154,"k14",{"$f":"'Catch Can Results'!L16","v":0},"",0,0]
[155,"l1",{"$f":"'Catch Can Results'!M3","v":0},"",0,0]
[156,"l2",{"$f":"'Catch Can Results'!M4","v":0},"",0,0]
[157,"l3",{"$f":"'Catch Can Results'!M5","v":0},"",0,0]
[158,"l4",{"$f":"'Catch Can Results'!M6","v":0},"",0,0]
[159,"l5",{"$f":"'Catch Can Results'!M7","v":0},"",0,0]
[160,"l6",{"$f":"'Catch Can Results'!M8","v":0},"",0,0]
[161,"l7",{"$f":"'Catch Can Results'!M9","v":0},"",0,0]
[162,"l8",{"$f":"'Catch Can Results'!M10","v":0},"",0,0]
[163,"l9",{"$f":"'Catch Can Results'!M11","v":0},"",0,0]
[164,"l10",{"$f":"'Catch Can Results'!M12","v":0},"",0,0]
[165,"l11",{"$f":"'Catch Can Results'!M13","v":0},"",0,0]
[166,"l12",{"$f":"'Catch Can Results'!M14","v":0},"",0,0]
[167,"l13",{"$f":"'Catch Can Results'!M15","v":0},"",0,0]
[168,"l14",{"$f":"'Catch Can Results'!M16","v":0},"",0,0]
[169,"m1",{"$f":"'Catch Can Results'!N3","v":0},"",0,0]
[170,"m2",{"$f":"'Catch Can Results'!N4","v":0},"",0,0]
[171,"m3",{"$f":"'Catch Can Results'!N5","v":0},"",0,0]
[172,"m4",{"$f":"'Catch Can Results'!N6","v":0},"",0,0]
[173,"m5",{"$f":"'Catch Can Results'!N7","v":0},"",0,0]
[174,"m6",{"$f":"'Catch Can Results'!N8","v":0},"",0,0]
[175,"m7",{"$f":"'Catch Can Results'!N9","v":0},"",0,0]
[176,"m8",{"$f":"'Catch Can Results'!N10","v":0},"",0,0]
[177,"m9",{"$f":"'Catch Can Results'!N11","v":0},"",0,0]
[178,"m10",{"$f":"'Catch Can Results'!N12","v":0},"",0,0]
[179,"m11",{"$f":"'Catch Can Results'!N13","v":0},"",0,0]
[180,"m12",{"$f":"'Catch Can Results'!N14","v":0},"",0,0]
[181,"m13",{"$f":"'Catch Can Results'!N15","v":0},"",0,0]
[182,"m14",{"$f":"'Catch Can Results'!N16","v":0},"",0,0]
[183,"n1",{"$f":"'Catch Can Results'!O3","v":0},"",0,0]
[184,"n2",{"$f":"'Catch Can Results'!O4","v":0},"",0,0]
[185,"n3",{"$f":"'Catch Can Results'!O5","v":0},"",0,0]
[186,"n4",{"$f":"'Catch Can Results'!O6","v":0},"",0,0]
[187,"n5",{"$f":"'Catch Can Results'!O7","v":0},"",0,0]
[188,"n6",{"$f":"'Catch Can Results'!O8","v":0},"",0,0]
[189,"n7",{"$f":"'Catch Can Results'!O9","v":0},"",0,0]
[190,"n8",{"$f":"'Catch Can Results'!O10","v":0},"",0,0]
[191,"n9",{"$f":"'Catch Can Results'!O11","v":0},"",0,0]
[192,"n10",{"$f":"'Catch Can Results'!O12","v":0},"",0,0]
[193,"n11",{"$f":"'Catch Can Results'!O13","v":0},{"$f":"IF(C199=0,\"\",C199)","v":""},{"$f":"IF(D199=\"\",0,E200+1)","v":0},{"$f":"IF(E199<=$C$3,C199,0)","v":0}]
[194,"n12",{"$f":"'Catch Can Results'!O14","v":0},"",0,0]
[195,"n13",{"$f":"'Catch Can Results'!O15","v":0},"",0,0]
[196,"n14",{"$f":"'Catch Can Results'!O16","v":0},"",0,0]
[197,"o1",{"$f":"'Catch Can Results'!P3","v":0},"",0,0]
[198,"o2",{"$f":"'Catch Can Results'!P4","v":0},"",0,0]
[199,"o3",{"$f":"'Catch Can Results'!P5","v":0},"",0,0]
[200,"o4",{"$f":"'Catch Can Results'!P6","v":0},"",0,0]
[201,"o5",{"$f":"'Catch Can Results'!P7","v":0},"",0,0]
[202,"o6",{"$f":"'Catch Can Results'!P8","v":0},"",0,0]
[203,"o7",{"$f":"'Catch Can Results'!P9","v":0},"",0,0]
[204,"o8",{"$f":"'Catch Can Results'!P10","v":0},"",0,0]
[205,"o9",{"$f":"'Catch Can Results'!P11","v":0},"",0,0]
[206,"o10",{"$f":"'Catch Can Results'!P12","v":0},"",0,0]
[207,"o11",{"$f":"'Catch Can Results'!P13","v":0},"",0,0]
[208,"o12",{"$f":"'Catch Can Results'!P14","v":0},"",0,0]
[209,"o13",{"$f":"'Catch Can Results'!P15","v":0},"",0,0]
[210,"o14",{"$f":"'Catch Can Results'!P16","v":0},"",0,0]